BEGIN:VCALENDAR
PRODID:-//github.com/ical-org/ical.net//NONSGML ical.net 5.2.1//EN
VERSION:2.0
BEGIN:VEVENT
DESCRIPTION:
DTEND:20221210T155000Z
DTSTAMP:20260422T220810Z
DTSTART:20221210T150000Z
LOCATION:Библиотека
SEQUENCE:0
SUMMARY:Снежинки\, бронемишки и контактность
 : грани разумного и вечного
UID:79d63bc0-85bd-4559-810b-b97bddf5fb30
END:VEVENT
BEGIN:VEVENT
DESCRIPTION:
DTEND:20221210T125000Z
DTSTAMP:20260422T220810Z
DTSTART:20221210T120000Z
LOCATION:РИ-холл
SEQUENCE:0
SUMMARY:КМДИ НРИ Стилгар
UID:6fa8730c-48b4-4d11-8b21-404f28e44537
END:VEVENT
BEGIN:VEVENT
DESCRIPTION:
DTEND:20221209T235000Z
DTSTAMP:20260422T220810Z
DTSTART:20221209T221500Z
LOCATION:Аудитория 3
SEQUENCE:0
SUMMARY:Игра “Шёпот в Тобермор”
UID:6a3fd901-6466-4bce-b066-04053a188186
END:VEVENT
BEGIN:VEVENT
DESCRIPTION:
DTEND:20221210T165000Z
DTSTAMP:20260422T220810Z
DTSTART:20221210T160000Z
LOCATION:Аудитория 2
SEQUENCE:0
SUMMARY:Рабочая экономика. Миф? Реальность.
UID:7e695dd5-4491-4646-a644-64b925193aaa
END:VEVENT
BEGIN:VEVENT
DESCRIPTION:Обобщенный опыт разработки регион
 а на ПРИ — от 30 до 300 игроков (не на игре\, 
 а в регионе \;)).\nКак бороться с противоре
 чиями (модели и сюжеты будут в марте\, а с
 етка ролей с функционалом — в сентябре\, 
 и другие)\, как задать общий контекст для 
 игроков и других мастеров. И не только.\nО
 бщий таймлайн проработки\, или как «загл
 януть в будущее»\, сохранить логику собы
 тий\, понять\, во что и почему будет игра в
  регионе\, связать все это с идеей игры... 
 и написать максимально содержательный и
  правдивый анонс еще в сентябре.\nКак нап
 исать сетку ролей с индивидуальными пер
 сонажами (на регион 30+)\, не указывая «кон
 трабандист»/«вор»/«маньяк»\, но привлека
 я игроков\, которым можно это предложить 
 :).\nНаброски сетки и сюжета\, чтобы «слив 
 — это не так больно».\nНесколько общих оч
 евидных (почти?) рекомендаций по коммуни
 кации: как создать с игроками общий или х
 отя бы близкий контекст — и задать поле 
 для игровых конфликтов\, от спора за чаем
  до отрезания ушей.
DTEND:20221210T235000Z
DTSTAMP:20260422T220810Z
DTSTART:20221210T220000Z
LOCATION:Аудитория 1
SEQUENCE:0
SUMMARY:Регион на ПРИ: порядок и конструктор 
 сборки
UID:0316acc5-8798-4fc2-9a86-d37cee4c1780
END:VEVENT
BEGIN:VEVENT
DESCRIPTION:
DTEND:20221210T155000Z
DTSTAMP:20260422T220810Z
DTSTART:20221210T150000Z
LOCATION:РИ-холл
SEQUENCE:0
SUMMARY:Презентация игры "ГРАНИЦЫ ДОЗВОЛЕНН
 ОГО"
UID:7a4b807d-9fed-45b4-8a32-370f64ec2ffb
END:VEVENT
BEGIN:VEVENT
DESCRIPTION:
DTEND:20221210T235000Z
DTSTAMP:20260422T220810Z
DTSTART:20221210T220000Z
LOCATION:Аудитория 3
SEQUENCE:0
SUMMARY:Рыцарь\, Смерть и Дьявол
UID:a4f619b1-a85b-4925-a3c2-d178166dee75
END:VEVENT
BEGIN:VEVENT
DESCRIPTION:
DTEND:20221210T185000Z
DTSTAMP:20260422T220810Z
DTSTART:20221210T170000Z
LOCATION:Аудитория 3
SEQUENCE:0
SUMMARY:КРИ "Сплит"
UID:2566dcd3-909b-45f9-b841-c1566da3dc1b
END:VEVENT
BEGIN:VEVENT
DESCRIPTION:
DTEND:20221209T235000Z
DTSTAMP:20260422T220810Z
DTSTART:20221209T221500Z
LOCATION:Аудитория 1
SEQUENCE:0
SUMMARY:Сам ты актер! 
UID:e3d63b51-1f8d-4b78-999a-e49adc718b7a
END:VEVENT
BEGIN:VEVENT
DESCRIPTION:
DTEND:20221211T145000Z
DTSTAMP:20260422T220810Z
DTSTART:20221209T180000Z
LOCATION:Общий зал
SEQUENCE:0
SUMMARY:Игротека
UID:642bfc04-7d26-4a3f-b0de-ff631f9c5577
END:VEVENT
BEGIN:VEVENT
DESCRIPTION:
DTEND:20221210T115000Z
DTSTAMP:20260422T220810Z
DTSTART:20221210T110000Z
LOCATION:Аудитория 2
SEQUENCE:0
SUMMARY:АХЧ+Антураж. Фантазии в реальность!
UID:b38bf572-9a7d-4ef3-bcff-cbb7292cf7e4
END:VEVENT
BEGIN:VEVENT
DESCRIPTION:
DTEND:20221211T135000Z
DTSTAMP:20260422T220810Z
DTSTART:20221211T130000Z
LOCATION:Аудитория 2
SEQUENCE:0
SUMMARY:Как играть лав-стори
UID:742106a8-2eab-42ae-873c-5ed4a9575fc3
END:VEVENT
BEGIN:VEVENT
DESCRIPTION:
DTEND:20221211T125000Z
DTSTAMP:20260422T220810Z
DTSTART:20221211T120000Z
LOCATION:Аудитория 2
SEQUENCE:0
SUMMARY:Зачем играть в лав-стори
UID:cd593895-3fc5-401e-8d26-73cf6c7b54e2
END:VEVENT
BEGIN:VEVENT
DESCRIPTION:
DTEND:20221210T175000Z
DTSTAMP:20260422T220810Z
DTSTART:20221210T170000Z
LOCATION:РИ-холл
SEQUENCE:0
SUMMARY:Ролевая капсула. Обмен лайфхаками по
  антуражу
UID:8d9f976b-86bc-4dfe-8bbc-ce1b2aa595a5
END:VEVENT
BEGIN:VEVENT
DESCRIPTION:
DTEND:20221210T235000Z
DTSTAMP:20260422T220810Z
DTSTART:20221210T220000Z
LOCATION:РИ-холл
SEQUENCE:0
SUMMARY:Мастерская боль и алкоголь
UID:eeb447a9-679f-475b-bbdc-ca35b1ac6e28
END:VEVENT
BEGIN:VEVENT
DESCRIPTION:
DTEND:20221210T115000Z
DTSTAMP:20260422T220810Z
DTSTART:20221210T110000Z
LOCATION:РИ-холл
SEQUENCE:0
SUMMARY:Корсары Занебесья: анонс
UID:e751de60-ea61-4f8d-befc-2340009d72ba
END:VEVENT
BEGIN:VEVENT
DESCRIPTION:
DTEND:20221211T145000Z
DTSTAMP:20260422T220810Z
DTSTART:20221211T140000Z
LOCATION:Аудитория 2
SEQUENCE:0
SUMMARY:Твое ролевое ПСЁ: как съездить на игр
 у с собакой\, чтобы всем было комфотно?
UID:80452857-c614-4c87-a5ce-8aae8c2f7516
END:VEVENT
BEGIN:VEVENT
DESCRIPTION:
DTEND:20221210T125000Z
DTSTAMP:20260422T220810Z
DTSTART:20221210T120000Z
LOCATION:Аудитория 3
SEQUENCE:0
SUMMARY:Лаборатория "Конструктор микросюжет
 ов"
UID:bdd56e11-b830-4583-a7bb-0b383c702be5
END:VEVENT
BEGIN:VEVENT
DESCRIPTION:
DTEND:20221210T155000Z
DTSTAMP:20260422T220810Z
DTSTART:20221210T150000Z
LOCATION:Аудитория 2
SEQUENCE:0
SUMMARY:Диспут “Мы не говорим об этом\, а зря
 ”
UID:5e5d35be-dff1-4f55-b273-877b15561419
END:VEVENT
BEGIN:VEVENT
DESCRIPTION:
DTEND:20221210T145000Z
DTSTAMP:20260422T220810Z
DTSTART:20221210T110000Z
LOCATION:Актовый зал
SEQUENCE:0
SUMMARY:Spellbound
UID:ef7f649c-1403-476e-970d-aa50d7fb8674
END:VEVENT
BEGIN:VEVENT
DESCRIPTION:
DTEND:20221209T235000Z
DTSTAMP:20260422T220810Z
DTSTART:20221209T230000Z
LOCATION:Библиотека
SEQUENCE:0
SUMMARY:Диалоги об ИНРИНРЯ
UID:709c888e-b8da-4a8b-9f6a-2ba52c47882d
END:VEVENT
BEGIN:VEVENT
DESCRIPTION:
DTEND:20221210T165000Z
DTSTAMP:20260422T220810Z
DTSTART:20221210T150000Z
LOCATION:Аудитория 3
SEQUENCE:0
SUMMARY:Игра "Мор: час до апофеоза"
UID:3212a104-5f8c-4e45-a167-f2c2a84e8c11
END:VEVENT
BEGIN:VEVENT
DESCRIPTION:
DTEND:20221210T135000Z
DTSTAMP:20260422T220810Z
DTSTART:20221210T130000Z
LOCATION:РИ-холл
SEQUENCE:0
SUMMARY:Презентация игры "Остров сокровищ" 
UID:5ee8e4e8-3fb4-4347-80dd-f75db90cc3d5
END:VEVENT
BEGIN:VEVENT
DESCRIPTION:
DTEND:20221210T185000Z
DTSTAMP:20260422T220810Z
DTSTART:20221210T180000Z
LOCATION:Библиотека
SEQUENCE:0
SUMMARY:Как мы делали игру: стендап от мастер
 ов «Колеса Времени» (с элементами трагед
 ии)
UID:2b680f90-713a-4224-b258-5937f3ce4ac9
END:VEVENT
BEGIN:VEVENT
DESCRIPTION:
DTEND:20221210T165000Z
DTSTAMP:20260422T220810Z
DTSTART:20221210T160000Z
LOCATION:РИ-холл
SEQUENCE:0
SUMMARY:Презентация игры "ShadowRun: Блиц"  
UID:3157d45b-ee4d-4001-baaf-29b9f2c47af6
END:VEVENT
BEGIN:VEVENT
DESCRIPTION:
DTEND:20221210T115000Z
DTSTAMP:20260422T220810Z
DTSTART:20221210T110000Z
LOCATION:Библиотека
SEQUENCE:0
SUMMARY:КМДИ ХИ 2022 : никогда так не делайте
UID:6ec73ba5-b6a5-4801-b39a-c7e1841aa92b
END:VEVENT
BEGIN:VEVENT
DESCRIPTION:
DTEND:20221210T185000Z
DTSTAMP:20260422T220810Z
DTSTART:20221210T180000Z
LOCATION:РИ-холл
SEQUENCE:0
SUMMARY:Горе от ума : игры с искусственным ра
 зумом
UID:8d3ffdd4-4005-4130-b1ab-6f886645b4bd
END:VEVENT
BEGIN:VEVENT
DESCRIPTION:
DTEND:20221210T165000Z
DTSTAMP:20260422T220810Z
DTSTART:20221210T160000Z
LOCATION:Библиотека
SEQUENCE:0
SUMMARY:Психология и Ри. Как поехать на игру 
 и получить опыт\, который пригодится в ре
 альной жизни.
UID:c9607e4e-1832-406b-9bbf-16e5846f55cc
END:VEVENT
BEGIN:VEVENT
DESCRIPTION:
DTEND:20221210T135000Z
DTSTAMP:20260422T220810Z
DTSTART:20221210T130000Z
LOCATION:Библиотека
SEQUENCE:0
SUMMARY:Презентация ПРИ "Десять минут" по мот
 ивам песен The Dartz
UID:26c2852d-4194-4785-a5a6-c4a154b4eb52
END:VEVENT
BEGIN:VEVENT
DESCRIPTION:
DTEND:20221211T125000Z
DTSTAMP:20260422T220810Z
DTSTART:20221211T120000Z
LOCATION:Библиотека
SEQUENCE:0
SUMMARY:Доклад "Зеленое солнце: некоторые за
 мечания о работе с вымышленными мирами"
UID:3ca895b3-15e2-4563-bb1b-fd16582ca32e
END:VEVENT
BEGIN:VEVENT
DESCRIPTION:
DTEND:20221210T205000Z
DTSTAMP:20260422T220810Z
DTSTART:20221210T200000Z
LOCATION:Аудитория 2
SEQUENCE:0
SUMMARY:МК "Крафт - что с чем едят. Обзорный ку
 рс материалов и интрумента"
UID:d6f2a3ff-71d6-47d1-b62a-769a75da2766
END:VEVENT
BEGIN:VEVENT
DESCRIPTION:
DTEND:20221209T235000Z
DTSTAMP:20260422T220810Z
DTSTART:20221209T230000Z
LOCATION:У Ёлки
SEQUENCE:0
SUMMARY:Ролевые байки у костра
UID:5e1b9a93-6d54-4f4a-b17e-cfe76d274d48
END:VEVENT
BEGIN:VEVENT
DESCRIPTION:
DTEND:20221210T205000Z
DTSTAMP:20260422T220810Z
DTSTART:20221210T200000Z
LOCATION:Аудитория 3
SEQUENCE:0
SUMMARY:Выразительные средства Ролевых Игр
UID:cb93a595-07c4-4ddb-bfc1-1824c1d9a8ac
END:VEVENT
BEGIN:VEVENT
DESCRIPTION:
DTEND:20221209T235000Z
DTSTAMP:20260422T220810Z
DTSTART:20221209T221500Z
LOCATION:Аудитория 2
SEQUENCE:0
SUMMARY:Кабинетка "Разговор на кухне"
UID:201294f8-26ac-4101-923b-3ac5dbf4b881
END:VEVENT
BEGIN:VEVENT
DESCRIPTION:
DTEND:20221210T135000Z
DTSTAMP:20260422T220810Z
DTSTART:20221210T130000Z
LOCATION:Аудитория 3
SEQUENCE:0
SUMMARY:Дискретные РИ: как\, чтобы что\, и в че
 м фишка?
UID:82b71c49-2b90-458f-880f-c6627a54ce8e
END:VEVENT
BEGIN:VEVENT
DESCRIPTION:Люди сидят и не разговаривают. Или 
 наоборот: люди ругаются\, шумят\, не слыша
 т друг друга. «Старики» взбунтовались и 
 ушли. Но действовать не могут. Всё это ра
 зные проявления неуправляемой динамики 
 группы. Это бывает на совещании\, на кухн
 е ресторана\, где угодно\, где есть люди и 
 они вообще могут общаться. Это бывает в к
 оманде и на игре.\nКажется\, что команды и 
 группы таинственно собираются\, развали
 ваются\, живут своей жизнью. Так в целом и
  есть\, но можно многое сделать\, чтобы бы
 ло лучше.\nЧто конкретно лучше?\n— Удовол
 ьствие\;\n— результат\n— время жизни груп
 пы\;\n— рост людей\;\n— причастность\;\n— о
 смысленность.\nЧто сделать?\n— аккуратно 
 работать с фазами жизни группы (адаптаци
 я — группирование — единение — коллект
 ив или смерть группы) и делать на каждой 
 фазе то\, что нужно\;\n— прояснять регион 
 лидерства и пускать в него\;\n— аккуратно
  и ярко работать с ритуалами.\nЧто сделае
 м на мероприятии:\n— пройдём через все фа
 зы в миниатюре\;\n— поговорим через карто
 чки и обсуждение о том\, что делать на раз
 ных фазах\;\n— поговорим о том\, как это ра
 ботает вдолгую (команда проекта).\nЯ: Миша
  Забелин. С 2014 г. вместе с командой ЭШЭР в
 еду школы развития\, регулярно работаю с 
 группами взрослых\, подростков\, модерир
 ую сессии для бизнеса и для работников в
 узов. Веду в «Школе навигаторов» курс «Н
 авигация групп». И делаю игры. Понимаю\, ч
 то происходит с группой в игре и с игрой 
 в группе. Ну\, думаю\, что понимаю. Разубед
 ите меня :)
DTEND:20221210T205000Z
DTSTAMP:20260422T220810Z
DTSTART:20221210T200000Z
LOCATION:РИ-холл
SEQUENCE:0
SUMMARY:Динамика группы: ловушки и спасения. 
UID:43c4dc41-69e3-4342-ab31-3f59497f0e17
END:VEVENT
BEGIN:VEVENT
DESCRIPTION:
DTEND:20221210T215000Z
DTSTAMP:20260422T220810Z
DTSTART:20221210T200000Z
LOCATION:Аудитория 1
SEQUENCE:0
SUMMARY:Создание персонажа на РИ по канонам 
 сценаристики
UID:34e36e64-6919-4812-bef4-3bbb17a34731
END:VEVENT
BEGIN:VEVENT
DESCRIPTION:
DTEND:20221210T125000Z
DTSTAMP:20260422T220810Z
DTSTART:20221210T120000Z
LOCATION:Аудитория 2
SEQUENCE:0
SUMMARY:Пивная йога
UID:9b206034-c9da-412b-94d5-78b4c445fb33
END:VEVENT
BEGIN:VEVENT
DESCRIPTION:
DTEND:20221210T125000Z
DTSTAMP:20260422T220810Z
DTSTART:20221210T120000Z
LOCATION:Библиотека
SEQUENCE:0
SUMMARY:Поясняю свою маленькость
UID:9a89e42a-98ab-46ad-9d98-47d0e49a755a
END:VEVENT
BEGIN:VEVENT
DESCRIPTION:
DTEND:20221210T115000Z
DTSTAMP:20260422T220810Z
DTSTART:20221210T110000Z
LOCATION:Аудитория 1
SEQUENCE:0
SUMMARY:У нас через пять минут свадьба/похор
 оны/пир!
UID:36228b08-7a29-4e00-8ce0-8217f48b1116
END:VEVENT
BEGIN:VEVENT
DESCRIPTION:
DTEND:20221210T115000Z
DTSTAMP:20260422T220810Z
DTSTART:20221210T110000Z
LOCATION:Аудитория 3
SEQUENCE:0
SUMMARY:Игра "здоровое озеро"
UID:9d437950-e812-4865-9e39-42dc15d29c94
END:VEVENT
BEGIN:VEVENT
DESCRIPTION:
DTEND:20221210T165000Z
DTSTAMP:20260422T220810Z
DTSTART:20221210T160000Z
LOCATION:У Ёлки
SEQUENCE:0
SUMMARY:Ролевая шляпа. Уже становится класси
 кой
UID:9430d64b-b1df-443e-bb99-7c8031099cb2
END:VEVENT
BEGIN:VEVENT
DESCRIPTION:Помните такое прославление меропр
 иятие\, как «Школа игрока»?\nА знаете о но
 вом явлении под названием «Импровизация
 »? Это юмористический интерактив на сцен
 е без подготовки\, экспромтом!\nМы хотим п
 опробовать объединить эти два движения 
 в один буйный бурный час.\nСцена - это вся 
 аудитория. Высказаться сможет каждый.\nБ
 ыстро\, динамично\, смешно.\nПриходите!
DTEND:20221210T205000Z
DTSTAMP:20260422T220810Z
DTSTART:20221210T200000Z
LOCATION:Библиотека
SEQUENCE:0
SUMMARY:Импровизация. Для веселых и находчив
 ых
UID:911cfba9-6cb4-4980-924f-7e38030accd7
END:VEVENT
BEGIN:VEVENT
DESCRIPTION:
DTEND:20221210T185000Z
DTSTAMP:20260422T220810Z
DTSTART:20221210T170000Z
LOCATION:Аудитория 2
SEQUENCE:0
SUMMARY:Что? Где? Когда?
UID:b910c6fa-2520-47ff-bb23-7f62ec84bd60
END:VEVENT
BEGIN:VEVENT
DESCRIPTION:
DTEND:20221210T235000Z
DTSTAMP:20260422T220810Z
DTSTART:20221210T220000Z
LOCATION:Аудитория 2
SEQUENCE:0
SUMMARY:КРИ "И в печали\, и в радости" (16+)
UID:4ac07890-fe22-43fb-9233-d031d98ef1e2
END:VEVENT
BEGIN:VEVENT
DESCRIPTION:Я хочу рассказать о своей любимой 
 части работы в «Нити Ариадны» и о том\, чт
 о мне кажется уникальным\, что я раньше н
 игде не встречала.\nКакие задачи ставит п
 еред собой отрядная история и какими сре
 дствами их решает\;\nиз каких компонентов
  состоит\, в чем её особенности\;\nмои люби
 мые истории и приёмы: как я добавляю опыт
  ролевого мастера к педагогической рабо
 те.
DTEND:20221211T135000Z
DTSTAMP:20260422T220810Z
DTSTART:20221211T130000Z
LOCATION:Аудитория 3
SEQUENCE:0
SUMMARY:Как мы создаем отрядные истории в Ни
 ти Ариадны
UID:130f3cc1-5f20-44bf-ac00-99c727fdbbf2
END:VEVENT
BEGIN:VEVENT
DESCRIPTION:
DTEND:20221210T135000Z
DTSTAMP:20260422T220810Z
DTSTART:20221210T130000Z
LOCATION:Аудитория 1
SEQUENCE:0
SUMMARY:Круглый стол "Производственный рома
 н: игры с "продуктом"" 
UID:d1a0f0b9-137b-4e65-b806-14c69d454da4
END:VEVENT
BEGIN:VEVENT
DESCRIPTION:
DTEND:20221210T175000Z
DTSTAMP:20260422T220810Z
DTSTART:20221210T170000Z
LOCATION:Аудитория 1
SEQUENCE:0
SUMMARY:"Как сделать историческую РИ\, чтобы 
 было интересно всем. Рассказ практикант
 а"
UID:e7019c02-69ca-4bd3-9658-95b870ca9d81
END:VEVENT
BEGIN:VEVENT
DESCRIPTION:
DTEND:20221210T155000Z
DTSTAMP:20260422T220810Z
DTSTART:20221210T150000Z
LOCATION:У Ёлки
SEQUENCE:0
SUMMARY:Детский квест на БРЁ!
UID:b64201c3-9135-4be3-858f-2571de93bf9d
END:VEVENT
BEGIN:VEVENT
DESCRIPTION:
DTEND:20221210T125000Z
DTSTAMP:20260422T220810Z
DTSTART:20221210T120000Z
LOCATION:Аудитория 1
SEQUENCE:0
SUMMARY:Работа игрока с мастерским загрузом 
 и  создание персонажа на его основе
UID:052c33ce-73bd-4c15-b22f-6617f04819b0
END:VEVENT
BEGIN:VEVENT
DESCRIPTION:
DTEND:20221210T135000Z
DTSTAMP:20260422T220810Z
DTSTART:20221210T130000Z
LOCATION:Аудитория 2
SEQUENCE:0
SUMMARY:Школа игрока по-блинкомовски
UID:41a2d30e-343d-42f6-8533-14c080df93a7
END:VEVENT
BEGIN:VEVENT
DESCRIPTION:
DTEND:20221210T175000Z
DTSTAMP:20260422T220810Z
DTSTART:20221210T170000Z
LOCATION:Библиотека
SEQUENCE:0
SUMMARY:Ожидания от АХЧ в наше время
UID:f6b7711c-ae56-4782-8a05-92183b324c92
END:VEVENT
BEGIN:VEVENT
DESCRIPTION:
DTEND:20221210T165000Z
DTSTAMP:20260422T220810Z
DTSTART:20221210T150000Z
LOCATION:Аудитория 1
SEQUENCE:0
SUMMARY:«Император приближается!» Круглый с
 тол по этикету на РИ. Исторические и окол
 о того игры
UID:ec86296d-5bb6-4517-b74e-3a64bfd5542e
END:VEVENT
BEGIN:VEVENT
DESCRIPTION:
DTEND:20221211T135000Z
DTSTAMP:20260422T220810Z
DTSTART:20221211T130000Z
LOCATION:Аудитория 1
SEQUENCE:0
SUMMARY:3d-печать в помощь ролевику (и немного
  электроники)
UID:bef2fc2e-092f-4095-bf9b-6a665da56246
END:VEVENT
BEGIN:VEVENT
DESCRIPTION:
DTEND:20221210T185000Z
DTSTAMP:20260422T220810Z
DTSTART:20221210T180000Z
LOCATION:Аудитория 1
SEQUENCE:0
SUMMARY:Инструменты сюжетника
UID:cad00d39-2760-4002-8696-959a14e54d30
END:VEVENT
BEGIN:VEVENT
DESCRIPTION:
DTEND:20221211T145000Z
DTSTAMP:20260422T220810Z
DTSTART:20221211T140000Z
LOCATION:Библиотека
SEQUENCE:0
SUMMARY:Стендап лекция «Ролевое Движение: от
  Легенд к Звёздам»
UID:eaf5e776-27bf-4685-8367-5615e13c308a
END:VEVENT
BEGIN:VEVENT
DESCRIPTION:
DTEND:20221211T104500Z
DTSTAMP:20260422T220810Z
DTSTART:20221210T091500Z
LOCATION:Аудитория 1
SEQUENCE:0
SUMMARY:Зарядка! И немного лайфхаков\, как на
 чать шевелиться
UID:3989876f-416f-4ef7-ab9a-0e53204c1e3f
END:VEVENT
BEGIN:VEVENT
DESCRIPTION:
DTEND:20221210T155000Z
DTSTAMP:20260422T220810Z
DTSTART:20221210T150000Z
LOCATION:Актовый зал
SEQUENCE:0
SUMMARY:Тест боёвки РИ "Трясина" (На улице)
UID:b82a52a2-acbf-419d-a0a7-ae74b8be08b3
END:VEVENT
BEGIN:VEVENT
DESCRIPTION:
DTEND:20221210T215000Z
DTSTAMP:20260422T220810Z
DTSTART:20221210T210000Z
LOCATION:РИ-холл
SEQUENCE:0
SUMMARY:Как (НЕ) надо делать электронику в да
 нжах.
UID:727d6fed-0867-45be-a376-ea124754aa41
END:VEVENT
BEGIN:VEVENT
DESCRIPTION:
DTEND:20221211T125000Z
DTSTAMP:20260422T220810Z
DTSTART:20221211T120000Z
LOCATION:Аудитория 1
SEQUENCE:0
SUMMARY:Где и как учатся дети ролевиков?
UID:621e0140-1dee-407c-9f9e-1a729271ac3e
END:VEVENT
BEGIN:VEVENT
DESCRIPTION:
DTEND:20221209T190000Z
DTSTAMP:20260422T220810Z
DTSTART:20221209T180000Z
LOCATION:Аудитория 1\, Аудитория 2\, Аудитория 3
 \, Библиотека\, РИ-холл\, У Ёлки\, Актовый з
 ал
SEQUENCE:0
SUMMARY:Заезд
UID:8f5f7c7a-8e2e-4948-9f89-2f221b1ae5c8
END:VEVENT
BEGIN:VEVENT
DESCRIPTION:
DTEND:20221209T215000Z
DTSTAMP:20260422T220810Z
DTSTART:20221209T210000Z
LOCATION:Аудитория 1\, Аудитория 2\, Аудитория 3
 \, Библиотека\, РИ-холл\, У Ёлки\, Общий зал\
 , Актовый зал
SEQUENCE:0
SUMMARY:Пятничный ужин
UID:836235bb-cfcd-48cf-a6eb-86966b49605c
END:VEVENT
BEGIN:VEVENT
DESCRIPTION:
DTEND:20221210T105000Z
DTSTAMP:20260422T220810Z
DTSTART:20221210T100000Z
LOCATION:Аудитория 1\, Аудитория 2\, Аудитория 3
 \, Библиотека\, РИ-холл\, У Ёлки\, Общий зал\
 , Актовый зал
SEQUENCE:0
SUMMARY:Субботний завтрак
UID:3a8c6302-f060-4882-98e7-a08b0b62fb75
END:VEVENT
BEGIN:VEVENT
DESCRIPTION:
DTEND:20221210T145000Z
DTSTAMP:20260422T220810Z
DTSTART:20221210T140000Z
LOCATION:Аудитория 1\, Аудитория 2\, Аудитория 3
 \, Библиотека\, РИ-холл\, У Ёлки\, Общий зал
SEQUENCE:0
SUMMARY:Суботний обед
UID:2fe6d9a3-2854-4ba1-b31b-c7bb703def25
END:VEVENT
BEGIN:VEVENT
DESCRIPTION:
DTEND:20221210T195000Z
DTSTAMP:20260422T220810Z
DTSTART:20221210T190000Z
LOCATION:Аудитория 1\, Аудитория 2\, Аудитория 3
 \, Библиотека\, РИ-холл\, У Ёлки\, Общий зал\
 , Актовый зал
SEQUENCE:0
SUMMARY:Субботний ужин
UID:b97756e3-0a09-4926-bbea-897c7eda1d61
END:VEVENT
BEGIN:VEVENT
DESCRIPTION:
DTEND:20221211T115000Z
DTSTAMP:20260422T220810Z
DTSTART:20221211T110000Z
LOCATION:Аудитория 1\, Аудитория 2\, Аудитория 3
 \, Библиотека\, РИ-холл\, У Ёлки\, Общий зал\
 , Актовый зал
SEQUENCE:0
SUMMARY:Воскресный завтрак
UID:8a3e3502-646e-4d69-a7fd-e08dbb7e15e9
END:VEVENT
BEGIN:VEVENT
DESCRIPTION:
DTEND:20221211T155000Z
DTSTAMP:20260422T220810Z
DTSTART:20221211T150000Z
LOCATION:Аудитория 1\, Аудитория 2\, Аудитория 3
 \, Библиотека\, РИ-холл\, У Ёлки\, Общий зал\
 , Актовый зал
SEQUENCE:0
SUMMARY:Воскресный обед
UID:633d5766-59c5-40c6-924a-77116b7cdfa0
END:VEVENT
BEGIN:VEVENT
DESCRIPTION:
DTEND:20221209T235000Z
DTSTAMP:20260422T220810Z
DTSTART:20221209T221500Z
LOCATION:Актовый зал
SEQUENCE:0
SUMMARY:Концерт Руста
UID:3475342e-628c-425e-a385-4756ddbc3dab
END:VEVENT
BEGIN:VEVENT
DESCRIPTION:
DTEND:20221210T205000Z
DTSTAMP:20260422T220810Z
DTSTART:20221210T160000Z
LOCATION:Актовый зал
SEQUENCE:0
SUMMARY:Занято
UID:81a66141-b97a-4c12-9021-c330b03a06db
END:VEVENT
BEGIN:VEVENT
DESCRIPTION:
DTEND:20221210T235000Z
DTSTAMP:20260422T220810Z
DTSTART:20221210T210000Z
LOCATION:Актовый зал
SEQUENCE:0
SUMMARY:Дискотека
UID:4e9e8415-d3f3-4360-8a87-efc852bacaa0
END:VEVENT
BEGIN:VEVENT
DESCRIPTION:
DTEND:20221211T104500Z
DTSTAMP:20260422T220810Z
DTSTART:20221210T091500Z
LOCATION:Аудитория 2\, Аудитория 3\, Библиотека
 \, РИ-холл\, У Ёлки\, Общий зал\, Актовый зал
SEQUENCE:0
SUMMARY:С добрым утром!
UID:4076db63-93e4-4a44-9a96-b3b76baa5610
END:VEVENT
BEGIN:VEVENT
DESCRIPTION:
DTEND:20221209T220500Z
DTSTAMP:20260422T220810Z
DTSTART:20221209T220000Z
LOCATION:Аудитория 1\, Аудитория 2\, Аудитория 3
 \, Библиотека\, РИ-холл\, У Ёлки\, Общий зал\
 , Актовый зал
SEQUENCE:0
SUMMARY:Открытие (Актовый зал)
UID:2b23ff9d-0a55-40a6-b34e-bc92f1c0b8ad
END:VEVENT
BEGIN:VEVENT
DESCRIPTION:Ищете новый и живой фэнтези-мир\, п
 ро который можно читать\, слушать и смотр
 еть\, который можно буквально пощупать р
 уками и в который можно поиграть? Елизав
 ета Лаггар\, автор (художник и костюмер) к
 нижного цикла «Эйландсил: Песни Серебря
 ных Струн» с удовольствием познакомит в
 ас со своей маленькой вселенной. Камерно
 \, графически и виртуально\, за короткий ч
 ас\, но с большой любовью.\nПоиграем в аза
 ртные настольные игры — как герои роман
 а\, заглянем в будущее с помощью чудесных
  карт\, покрутим виртуальный глобус ново
 го мира\, посмотрим на десятки красивых к
 артин\, полистаем страницы свежего и уни
 кального печатного издания и просто вол
 шебно проведём время.
DTEND:20221210T175000Z
DTSTAMP:20260422T220810Z
DTSTART:20221210T170000Z
LOCATION:У Ёлки
SEQUENCE:0
SUMMARY:"Песни Серебряных Струн" - новая книг
 а\, новый мир\, новые приключения.
UID:ab61c541-63a9-4640-a77f-137f80317530
END:VEVENT
BEGIN:VEVENT
DESCRIPTION:Краткая информация по игре:\n● Дат
 а: 3–5 марта 2023 года\n● Место: ДОЛ «Юность
 » в Лосево (Ленобласть)\n● Мастерская гру
 ппа: стажерский отряд «Анкирия» при кури
 ровании педагогическим отрядом «Эспада
 »\n● Количество игроков: 40–60 человек\nО ч
 ем игра:\n● о Падении Нуменора и о том\, ка
 к именно это произошло\;\n● о подлости\, л
 жи\, бесчестии и других грехах позднего Н
 уменора\;\n● об интригах при дворе Ар-Фар
 азона Золотого\;\n● о колонизации Средиз
 емья Нуменором\;\n«О Нуменор! Благословен
 ный край\, земля невиданных богатств и зн
 аний! Под сенью великого древа Нимлот я с
 мотрю на прекрасные башни Арменелоса\, а
 рхитектурного шедевра Арды — и не могу н
 алюбоваться. Величественны не только бе
 локаменные шпили\, но и люди\, в них живущ
 ие\, — высокие\, стройные\, статные. Люди\, 
 которые лучше других в мире владеют как 
 мечом\, так и языком. Воистину\, нет в Арде
  народа лучше\, чем дунэдайн! Пусть среди 
 нас и остаются предатели\, верящие в Вала
 р и скорбящие о былых временах\, — скоро 
 они узнают цену своего неповиновения. Оч
 ень скоро. Если бы Саурон — этот жалкий в
 ыскочка\, называющий себя владыкой всех 
 людей\, — не занимал бы сейчас мой светлы
 й ум\, эти „Верные“ уже болтались бы на в
 иселице. Но пока что Саурон отнимает все 
 мое внимание. И скоро мой флот сравняет У
 мбар до основания».\n— Из дневника Ар-Фар
 азона Золотого\, короля Нуменора.
DTEND:20221210T215000Z
DTSTAMP:20260422T220810Z
DTSTART:20221210T210000Z
LOCATION:Аудитория 2
SEQUENCE:0
SUMMARY:Презентация ПРИ "Нуменор: Вопреки Ва
 лар" 
UID:26517080-1df8-4c73-91b4-bb31cc0e2ff9
END:VEVENT
BEGIN:VEVENT
DESCRIPTION:Ролевая игра от «МГ-42»\nТег игры дл
 я соцсетей #vseblagoe2023\nГМ Данил Коган (Дан)\, 
 Татьяна Коган (Flame)\, Сергей Пронин\, Марин
 а Гурова\, Терри (Terry Tegilken)\, Давид Кац\, Там
 ара Ильина (Цири)\nФормат: игра-город\nМес
 то: пансионат Театральный (под Санкт-Пет
 ербургом)\nЧисленность: 50–70 игроков\nСти
 листика: стимпанк & теслапанк\nЖанр: поли
 тический триллер\nhttps://vk.com/vseblagoe
DTEND:20221210T215000Z
DTSTAMP:20260422T220810Z
DTSTART:20221210T210000Z
LOCATION:Аудитория 3
SEQUENCE:0
SUMMARY:Презентация РИ «Всеблагое Электриче
 ство»
UID:bc605092-6787-4b69-b33d-c9c8b3fe1c35
END:VEVENT
END:VCALENDAR
